BEGIN:VCALENDAR
VERSION:2.0
PRODID:-//eventon.com NONSGML v1.0//EN
CALSCALE:GREGORIAN
METHOD:PUBLISH
BEGIN:VEVENT
UID:69e73602e6764
DTSTAMP:20260421T083202Z
DTSTART:20240119T000000Z
DTEND:20240119T045000Z
LOCATION:Théâtre Beanfield 2490 Notre-Dame ouest\,  Montreal QC\,  H3J 1N5
SUMMARY:Deluxe Rodeo Album Launch // Montreal QC
DESCRIPTION:Deluxe Rodeo is a new country music band from the Montreal regi
 on. Inspired by artists such as Zac Brown Band and Miranda Lambert\,  the f
 ive musicians have created a new country sound with touches of folk and roc
 k. Deluxe Rodeo is launching their very first original album on January 18[
 ..]\nhttps://frontporchmusic.ca/events/deluxe-rodeo-album-launch/
URL:https://frontporchmusic.ca/events/deluxe-rodeo-album-launch/
END:VEVENT
END:VCALENDAR