BEGIN:VCALENDAR
VERSION:2.0
PRODID:-//eventon.com NONSGML v1.0//EN
CALSCALE:GREGORIAN
METHOD:PUBLISH
BEGIN:VEVENT
UID:69e5370093b73
DTSTAMP:20260419T201144Z
DTSTART:20240424T060000Z
DTEND:20240424T090000Z
LOCATION:D'Lish Cafe 518 Broadway\,  Tillsonburg\,  ON N4G 3S7\,  Canada
SUMMARY:Olivia Mae Graham
DESCRIPTION:Kicking off spring with an acoustic show at D&#8217;Lish Cafe i
 n Tillsonburg. Come enjoy a cup of team\,  the most delicious desserts and 
 some brand new music from Olivia Mae Graham.\nhttps://frontporchmusic.ca/ev
 ents/olivia-mae-graham/
URL:https://frontporchmusic.ca/events/olivia-mae-graham/
END:VEVENT
END:VCALENDAR