BEGIN:VCALENDAR
VERSION:2.0
PRODID:-//eventon.com NONSGML v1.0//EN
CALSCALE:GREGORIAN
METHOD:PUBLISH
BEGIN:VEVENT
UID:69e89ca82d625
DTSTAMP:20260422T100216Z
DTSTART:20240802T210000Z
DTEND:20240806T033000Z
LOCATION:Centennial Beach 65 Lakeshore Dr
SUMMARY:Kempenfest 2024 // Barrie ON
DESCRIPTION:Kempenfest\,  one of Ontario’s largest outdoor arts\,  crafts
 \,  and music festivals\,  is celebrating its 52nd year in 2024. This year 
 promises the best lineup yet\,  featuring musical talents like Tyler Joe Mi
 ller and some of Canada’s top country artists. Originating in 1971 at the
  Formosa Springs Brewery\,  Kempenfest has grown[..]\nhttps://frontporchmus
 ic.ca/events/kempenfest-2024-barrie-on/
URL:https://frontporchmusic.ca/events/kempenfest-2024-barrie-on/
END:VEVENT
END:VCALENDAR