BEGIN:VCALENDAR
VERSION:2.0
PRODID:-//eventon.com NONSGML v1.0//EN
CALSCALE:GREGORIAN
METHOD:PUBLISH
BEGIN:VEVENT
UID:69e7c0465f88a
DTSTAMP:20260421T182158Z
DTSTART:20240804T020000Z
DTEND:20240804T040000Z
LOCATION:Blind Tiger Vineyards 11014 Bond RoadLake Country\,  BC\,  V4V 1J6
SUMMARY:Melissa Livingstone // Lake Country BC
DESCRIPTION:Melissa Livingstone // Lake Country BC\nhttps://frontporchmusic
 .ca/events/melissa-livingstone-lake-country-bc/
URL:https://frontporchmusic.ca/events/melissa-livingstone-lake-country-bc/
END:VEVENT
END:VCALENDAR